BEGIN:VCALENDAR
VERSION:2.0
PRODID:-//HeadsUp - ECPv6.15.17.1//NONSGML v1.0//EN
CALSCALE:GREGORIAN
METHOD:PUBLISH
X-WR-CALNAME:HeadsUp
X-ORIGINAL-URL:https://headsup-pa.org
X-WR-CALDESC:Events for HeadsUp
REFRESH-INTERVAL;VALUE=DURATION:PT1H
X-Robots-Tag:noindex
X-PUBLISHED-TTL:PT1H
BEGIN:VTIMEZONE
TZID:UTC
BEGIN:STANDARD
TZOFFSETFROM:+0000
TZOFFSETTO:+0000
TZNAME:UTC
DTSTART:20240101T000000
END:STANDARD
END:VTIMEZONE
BEGIN:VEVENT
DTSTART;TZID=UTC:20251124T080000
DTEND;TZID=UTC:20251124T160000
DTSTAMP:20260421T090436
CREATED:20250811T135130Z
LAST-MODIFIED:20250811T135130Z
UID:12891-1763971200-1764000000@headsup-pa.org
SUMMARY:Serving Justice Involved Peers
DESCRIPTION:Mental Health Partnerships Presents: This 6-hour training is aimed at CPS’ who are or will be working with individuals involved in the Criminal Justice System. Social determinants of health\, historic roots of trauma and the Sequential intercept Model are covered in detail during this training. Facilitators utilize various virtual engagement methods to ensure participants take full advantage of this interactive and skill-building course. \n  \nREGISTER HERE.
URL:https://headsup-pa.org/event/serving-justice-involved-peers/
END:VEVENT
BEGIN:VEVENT
DTSTART;TZID=UTC:20251124T090000
DTEND;TZID=UTC:20251124T120000
DTSTAMP:20260421T090436
CREATED:20250811T135456Z
LAST-MODIFIED:20250811T135456Z
UID:12893-1763974800-1763985600@headsup-pa.org
SUMMARY:Ethics and Boundaries
DESCRIPTION:Mental Health Partnerships Presents: This training\, adapted to address Peer’s particular needs\, is intended to support staff in developing and maintaining appropriate boundaries in service provision\, and explore and clarify ethical dilemmas. Participants will explore power and privilege and how these differentials affect our work. Participants will practice assessing decisions about boundaries and dual relationships. The Code of Ethical Conduct will be presented and participants will participate in interactive activities to support their learning experience and the implications of putting them into practice. This three-hour online experience will allow for question and answer\, group discussion\, activities and an evaluation.  \n  \nREGISTER HERE.
URL:https://headsup-pa.org/event/ethics-and-boundaries/
END:VEVENT
BEGIN:VEVENT
DTSTART;TZID=UTC:20251124T090000
DTEND;TZID=UTC:20251125T170000
DTSTAMP:20260421T090436
CREATED:20250811T135022Z
LAST-MODIFIED:20250811T135022Z
UID:12888-1763974800-1764090000@headsup-pa.org
SUMMARY:Qe Training (LGBTQ+)
DESCRIPTION:Mental Health Partnerships Presents: This productive and interactive 16-hour training program is designed to prepare Certified Peer Specialists for supporting LGBTQ+ persons. Throughout this course\, learners should expect to learn what sexual orientation\, gender identity\, and gender expression are and be able to determine the differences between each. Learners will also gain knowledge and understanding of the unique experiences faced by LGBTQ+ population\, including the dynamics present when people hold multiple marginalized identities and how compounding minority stress can impact their health outcomes. Finally\, learners will be presented with a number of strategies on how to be affirming towards LGBTQ+ people and support them through challenging discussions and scenarios. This course can be applied to CPS continuing education requirements. \nREGISTER HERE.
URL:https://headsup-pa.org/event/qe-training-lgbtq/
END:VEVENT
BEGIN:VEVENT
DTSTART;TZID=UTC:20251124T120000
DTEND;TZID=UTC:20251124T163000
DTSTAMP:20260421T090436
CREATED:20250929T142130Z
LAST-MODIFIED:20250929T142152Z
UID:12977-1763985600-1764001800@headsup-pa.org
SUMMARY:DLA-20 Functional Assessment Training
DESCRIPTION:UMD Presents: The DLA-20 functional assessment fulfills the Maryland Medicaid requirement for a core standardized assessment tool. \n  \nREGISTER HERE.
URL:https://headsup-pa.org/event/dla-20-functional-assessment-training-8/
END:VEVENT
END:VCALENDAR