BEGIN:VCALENDAR
VERSION:2.0
PRODID:-//HeadsUp - ECPv6.15.17.1//NONSGML v1.0//EN
CALSCALE:GREGORIAN
METHOD:PUBLISH
X-WR-CALNAME:HeadsUp
X-ORIGINAL-URL:https://headsup-pa.org
X-WR-CALDESC:Events for HeadsUp
REFRESH-INTERVAL;VALUE=DURATION:PT1H
X-Robots-Tag:noindex
X-PUBLISHED-TTL:PT1H
BEGIN:VTIMEZONE
TZID:UTC
BEGIN:STANDARD
TZOFFSETFROM:+0000
TZOFFSETTO:+0000
TZNAME:UTC
DTSTART:20240101T000000
END:STANDARD
END:VTIMEZONE
BEGIN:VEVENT
DTSTART;VALUE=DATE:20251028
DTEND;VALUE=DATE:20251029
DTSTAMP:20260421T124042
CREATED:20250815T152408Z
LAST-MODIFIED:20251010T184728Z
UID:12918-1761609600-1761695999@headsup-pa.org
SUMMARY:NAVIGATE International Conference 2025
DESCRIPTION:PEPPNET Presents: This conference provides an ideal opportunity to get inspired by powerful stories\, bold ideas\, and cutting-edge research as top scholars\, clinicians\, service users\, and family members address the treatment of and recovery from first episode psychosis (FEP)\, with a particular focus on the NAVIGATE treatment model. This year’s conference will include speakers from 5 different countries presenting on a range of key issues at the heart of today’s challenges\, including: \nSubstance Use Problems & Treatment \nExplorations in Medication Reduction & Discontinuation \nDating & Close Relationships \nAwareness of The Illness \nREGISTER HERE.
URL:https://headsup-pa.org/event/navigate-international-conference-2025/
END:VEVENT
BEGIN:VEVENT
DTSTART;TZID=UTC:20251024T113000
DTEND;TZID=UTC:20251024T130000
DTSTAMP:20260421T124042
CREATED:20251024T185846Z
LAST-MODIFIED:20251024T185846Z
UID:15740-1761305400-1761310800@headsup-pa.org
SUMMARY:Comparative Effectiveness of Cognitive Remediation & Social Skills Training in Schizophrenia
DESCRIPTION:MAPNET Early Psychosis Community Call Presents: Drs. Russell Schutt and Matcheri Keshavan will provide an overview of Project SUCCESS\, a comparative effectiveness trial of cognitive remediation and social skills training for individuals with schizophrenia\, including preliminary results on the effectiveness of cognitive enhancement training (CET) and the moderators of effectiveness for these interventions for early psychosis clinicians. \n  \nREGISTER HERE.
URL:https://headsup-pa.org/event/comparative-effectiveness-of-cognitive-remediation-social-skills-training-in-schizophrenia/
END:VEVENT
BEGIN:VEVENT
DTSTART;TZID=UTC:20251023T093000
DTEND;TZID=UTC:20251023T140000
DTSTAMP:20260421T124042
CREATED:20250929T141413Z
LAST-MODIFIED:20250929T141413Z
UID:12967-1761211800-1761228000@headsup-pa.org
SUMMARY:DLA-20 Functional Assessment Training
DESCRIPTION:UMD Presents: The DLA-20 functional assessment fulfills the Maryland Medicaid requirement for a core standardized assessment tool. \n  \nREGISTER HERE.
URL:https://headsup-pa.org/event/dla-20-functional-assessment-training-4/
END:VEVENT
END:VCALENDAR